BEGIN:VCALENDAR
METHOD:PUBLISH
PRODID:-//github.com/rianjs/ical.net//NONSGML ical.net 4.0//EN
VERSION:2.0
X-WR-CALNAME:Sunset Elementary PTA
BEGIN:VEVENT
CREATED:20260115T142213
DTEND;VALUE=DATE:20260423
DTSTAMP:20260422T103219Z
DTSTART;VALUE=DATE:20260422
LAST-MODIFIED:20260115T142213
SEQUENCE:0
STATUS:CONFIRMED
SUMMARY:STEAM Night
TRANSP:TRANSPARENT
UID:145116@ourschoolpages.com
END:VEVENT
END:VCALENDAR
